BEGIN:VCALENDAR
VERSION:2.0
PRODID:-//Grand River Sailing Club - ECPv6.15.20//NONSGML v1.0//EN
CALSCALE:GREGORIAN
METHOD:PUBLISH
X-WR-CALNAME:Grand River Sailing Club
X-ORIGINAL-URL:https://grandriversailingclub.com
X-WR-CALDESC:Events for Grand River Sailing Club
REFRESH-INTERVAL;VALUE=DURATION:PT1H
X-Robots-Tag:noindex
X-PUBLISHED-TTL:PT1H
BEGIN:VTIMEZONE
TZID:America/Detroit
BEGIN:DAYLIGHT
TZOFFSETFROM:-0500
TZOFFSETTO:-0400
TZNAME:EDT
DTSTART:20210314T070000
END:DAYLIGHT
BEGIN:STANDARD
TZOFFSETFROM:-0400
TZOFFSETTO:-0500
TZNAME:EST
DTSTART:20211107T060000
END:STANDARD
BEGIN:DAYLIGHT
TZOFFSETFROM:-0500
TZOFFSETTO:-0400
TZNAME:EDT
DTSTART:20220313T070000
END:DAYLIGHT
BEGIN:STANDARD
TZOFFSETFROM:-0400
TZOFFSETTO:-0500
TZNAME:EST
DTSTART:20221106T060000
END:STANDARD
BEGIN:DAYLIGHT
TZOFFSETFROM:-0500
TZOFFSETTO:-0400
TZNAME:EDT
DTSTART:20230312T070000
END:DAYLIGHT
BEGIN:STANDARD
TZOFFSETFROM:-0400
TZOFFSETTO:-0500
TZNAME:EST
DTSTART:20231105T060000
END:STANDARD
END:VTIMEZONE
BEGIN:VEVENT
DTSTART;TZID=America/Detroit:20220326T190000
DTEND;TZID=America/Detroit:20220326T220000
DTSTAMP:20260419T202123
CREATED:20220322T204840Z
LAST-MODIFIED:20220322T205602Z
UID:1578-1648321200-1648332000@grandriversailingclub.com
SUMMARY:Dart Tournament
DESCRIPTION:BYOB and an appetizer to share. \nThere will also be board games and Euchre. Feel free to bring cards and and your favorite board game. (Fun way to kill time while you’re waiting your turn to stab the board.) \nPlease RSVP to Susan Harper at 616-843-5533 just so I have an idea how many to expect. Text is fine. \nHelpers needed and appreciated to set up and clean up!!
URL:https://grandriversailingclub.com/event-detail/darts2022/
LOCATION:Grand River Sailing Club\, 219 N. Harbor Drive\, Grand Haven\, MI\, 49417\, United States
ATTACH;FMTTYPE=image/png:https://website-assets.grandriversailingclub.com/wp-content/uploads/2022/03/12174313/Screen-Shot-2022-03-22-at-4.48.17-PM.png
ORGANIZER;CN="Susan Harper":MAILTO:harper.slynn@gmail.com
END:VEVENT
END:VCALENDAR