BEGIN:VCALENDAR
VERSION:2.0
PRODID:-//Grand River Sailing Club - ECPv6.15.20//NONSGML v1.0//EN
CALSCALE:GREGORIAN
METHOD:PUBLISH
X-WR-CALNAME:Grand River Sailing Club
X-ORIGINAL-URL:https://grandriversailingclub.com
X-WR-CALDESC:Events for Grand River Sailing Club
REFRESH-INTERVAL;VALUE=DURATION:PT1H
X-Robots-Tag:noindex
X-PUBLISHED-TTL:PT1H
BEGIN:VTIMEZONE
TZID:America/Detroit
BEGIN:DAYLIGHT
TZOFFSETFROM:-0500
TZOFFSETTO:-0400
TZNAME:EDT
DTSTART:20210314T070000
END:DAYLIGHT
BEGIN:STANDARD
TZOFFSETFROM:-0400
TZOFFSETTO:-0500
TZNAME:EST
DTSTART:20211107T060000
END:STANDARD
BEGIN:DAYLIGHT
TZOFFSETFROM:-0500
TZOFFSETTO:-0400
TZNAME:EDT
DTSTART:20220313T070000
END:DAYLIGHT
BEGIN:STANDARD
TZOFFSETFROM:-0400
TZOFFSETTO:-0500
TZNAME:EST
DTSTART:20221106T060000
END:STANDARD
BEGIN:DAYLIGHT
TZOFFSETFROM:-0500
TZOFFSETTO:-0400
TZNAME:EDT
DTSTART:20230312T070000
END:DAYLIGHT
BEGIN:STANDARD
TZOFFSETFROM:-0400
TZOFFSETTO:-0500
TZNAME:EST
DTSTART:20231105T060000
END:STANDARD
END:VTIMEZONE
BEGIN:VEVENT
DTSTART;TZID=America/Detroit:20220618T100000
DTEND;TZID=America/Detroit:20220618T170000
DTSTAMP:20260419T154205
CREATED:20220322T210943Z
LAST-MODIFIED:20220322T210943Z
UID:1590-1655546400-1655571600@grandriversailingclub.com
SUMMARY:Coast Guard Rescue Demonstration
DESCRIPTION:More information coming soon.  Contact Marshall for more information.
URL:https://grandriversailingclub.com/event-detail/coast-guard-rescue-demonstration/
LOCATION:Grand River Sailing Club\, 219 N. Harbor Drive\, Grand Haven\, MI\, 49417\, United States
ATTACH;FMTTYPE=image/jpeg:https://website-assets.grandriversailingclub.com/wp-content/uploads/2022/03/12174311/coast-guard-gh-nate.jpg
ORGANIZER;CN="Marshall Lystra":MAILTO:marshalllystra@gmail.com
END:VEVENT
END:VCALENDAR