BEGIN:VCALENDAR
VERSION:2.0
PRODID:-//Grand River Sailing Club - ECPv6.15.20//NONSGML v1.0//EN
CALSCALE:GREGORIAN
METHOD:PUBLISH
X-WR-CALNAME:Grand River Sailing Club
X-ORIGINAL-URL:https://grandriversailingclub.com
X-WR-CALDESC:Events for Grand River Sailing Club
REFRESH-INTERVAL;VALUE=DURATION:PT1H
X-Robots-Tag:noindex
X-PUBLISHED-TTL:PT1H
BEGIN:VTIMEZONE
TZID:America/Detroit
BEGIN:DAYLIGHT
TZOFFSETFROM:-0500
TZOFFSETTO:-0400
TZNAME:EDT
DTSTART:20200308T070000
END:DAYLIGHT
BEGIN:STANDARD
TZOFFSETFROM:-0400
TZOFFSETTO:-0500
TZNAME:EST
DTSTART:20201101T060000
END:STANDARD
BEGIN:DAYLIGHT
TZOFFSETFROM:-0500
TZOFFSETTO:-0400
TZNAME:EDT
DTSTART:20210314T070000
END:DAYLIGHT
BEGIN:STANDARD
TZOFFSETFROM:-0400
TZOFFSETTO:-0500
TZNAME:EST
DTSTART:20211107T060000
END:STANDARD
BEGIN:DAYLIGHT
TZOFFSETFROM:-0500
TZOFFSETTO:-0400
TZNAME:EDT
DTSTART:20220313T070000
END:DAYLIGHT
BEGIN:STANDARD
TZOFFSETFROM:-0400
TZOFFSETTO:-0500
TZNAME:EST
DTSTART:20221106T060000
END:STANDARD
END:VTIMEZONE
BEGIN:VEVENT
DTSTART;TZID=America/Detroit:20210619T110000
DTEND;TZID=America/Detroit:20210619T190000
DTSTAMP:20260420T085719
CREATED:20210603T210112Z
LAST-MODIFIED:20210603T210612Z
UID:1223-1624100400-1624129200@grandriversailingclub.com
SUMMARY:Summer Sailstice
DESCRIPTION:We plan to leave the Grand Haven pierhead to sail for Muskegon at noon on Saturday\, June 19\, where we can spend the night anchored off Muskegon State Park (in one of the bays just inside the pierheads) as a sunflower. \nDownload Brochure by clicking here!
URL:https://grandriversailingclub.com/event-detail/summer-sailstice/
LOCATION:Grand River Sailing Club\, 219 N. Harbor Drive\, Grand Haven\, MI\, 49417\, United States
ATTACH;FMTTYPE=image/jpeg:https://website-assets.grandriversailingclub.com/wp-content/uploads/2021/06/12174350/20160529-024-M.jpg
ORGANIZER;CN="Marshall Lystra":MAILTO:marshalllystra@gmail.com
END:VEVENT
BEGIN:VEVENT
DTSTART;TZID=America/Detroit:20210622T183000
DTEND;TZID=America/Detroit:20210622T200000
DTSTAMP:20260420T085719
CREATED:20210614T131320Z
LAST-MODIFIED:20210614T131429Z
UID:1233-1624386600-1624392000@grandriversailingclub.com
SUMMARY:New Member Reception
DESCRIPTION:Let’s celebrate our new members with a potluck on Tuesday\, June 22 at 6:30 PM.  Members\, please bring a generous side dish to share.  Hot Dogs and Burgers provided!
URL:https://grandriversailingclub.com/event-detail/new-member-reception/
LOCATION:Grand River Sailing Club\, 219 N. Harbor Drive\, Grand Haven\, MI\, 49417\, United States
ATTACH;FMTTYPE=image/jpeg:https://website-assets.grandriversailingclub.com/wp-content/uploads/2020/05/12174454/DJI_0072.jpg
ORGANIZER;CN="Susan Harper":MAILTO:harper.slynn@gmail.com
END:VEVENT
END:VCALENDAR